BEGIN:VCALENDAR
VERSION:2.0
PRODID:-//WelpIcalBundle//Calendar App//PL
CALSCALE:GREGORIAN
METHOD:PUBLISH
BEGIN:VTIMEZONE
TZID:Europe/Warsaw
BEGIN:STANDARD
DTSTART:20261025T010000
TZOFFSETTO:+0100
TZOFFSETFROM:+0200
RRULE:FREQ=YEARLY;BYMONTH=11;BYDAY=1SU
END:STANDARD
BEGIN:DAYLIGHT
DTSTART:20260329T010000
TZOFFSETTO:+0200
TZOFFSETFROM:+0100
RRULE:FREQ=YEARLY;BYMONTH=3;BYDAY=2SU
END:DAYLIGHT
END:VTIMEZONE
BEGIN:VEVENT
UID:18139@klubstudio
DTSTART:20261016T193000
DTEND:20261016T230000
SUMMARY:Ampacity i Weedpecker + Snakes Snakes Snakes
DESCRIPTION:Piranha Music & Klub Gwarek zapraszają na na wspólną\, 
 co-headlinerską trasę Ampacity i Weedpecker! Zespóły wystąpią w 
 Krakowie ramach promocji swoich najnowszych albumów\, kolejno: “Cos
 mic Indifference” (Piranha Music) oraz “V” (Heavy Psych Sounds).
  Gościnnie wspierać ich będzie młoda fuzz rockowa ekipa Snakes Sna
 kes Snakes.
LOCATION;LANGUAGE=pl:Klub Gwarek
URL:https://www.klubgwarek.pl/koncert/erkA9B/2026-10-16/Ampacity-i-Wee
 dpecker-Snakes-Snakes-Snakes
DTSTAMP:20260420T161146Z
ORGANIZER;CN=Fundacja ACADEMICA;LANGUAGE=pl:
END:VEVENT
END:VCALENDAR
