BEGIN:VCALENDAR
VERSION:2.0
PRODID:-//WelpIcalBundle//Calendar App//PL
CALSCALE:GREGORIAN
METHOD:PUBLISH
BEGIN:VTIMEZONE
TZID:Europe/Warsaw
BEGIN:STANDARD
DTSTART:20251026T010000
TZOFFSETTO:+0100
TZOFFSETFROM:+0200
RRULE:FREQ=YEARLY;BYMONTH=11;BYDAY=1SU
END:STANDARD
BEGIN:DAYLIGHT
DTSTART:20250330T010000
TZOFFSETTO:+0200
TZOFFSETFROM:+0100
RRULE:FREQ=YEARLY;BYMONTH=3;BYDAY=2SU
END:DAYLIGHT
END:VTIMEZONE
BEGIN:VEVENT
UID:16885@klubstudio
DTSTART:20251127T193000
DTEND:20251127T220000
SUMMARY:YAWNING MAN + SoftSun
DESCRIPTION:Otwarcie bram: 18:30\nPionierzy pustynnego stoner rocka w 
 Klubie Gwarek!
LOCATION;LANGUAGE=pl:Klub Gwarek
URL:https://www.klubgwarek.pl/koncert/XvgJWR/2025-11-27/YAWNING-MAN-SoftSun
DTSTAMP:20260420T103837Z
ORGANIZER;CN=Fundacja ACADEMICA;LANGUAGE=pl:
END:VEVENT
END:VCALENDAR
