BEGIN:VCALENDAR
VERSION:2.0
PRODID:-//WelpIcalBundle//Calendar App//PL
CALSCALE:GREGORIAN
METHOD:PUBLISH
BEGIN:VTIMEZONE
TZID:Europe/Warsaw
BEGIN:STANDARD
DTSTART:20251026T010000
TZOFFSETTO:+0100
TZOFFSETFROM:+0200
RRULE:FREQ=YEARLY;BYMONTH=11;BYDAY=1SU
END:STANDARD
BEGIN:DAYLIGHT
DTSTART:20250330T010000
TZOFFSETTO:+0200
TZOFFSETFROM:+0100
RRULE:FREQ=YEARLY;BYMONTH=3;BYDAY=2SU
END:DAYLIGHT
END:VTIMEZONE
BEGIN:VEVENT
UID:15300@klubstudio
DTSTART:20250222T193000
DTEND:20250222T210000
SUMMARY:MOYRA + Void Of Symphaty & Malware
DESCRIPTION:Otwarcie bram: 18:30\nMuzyka Moyry to melodic death metal\
 , choć muzycy nie uciekają od eksperymentowania i bardzo dobrze radz
 ą sobie z łączeniem różnych klimatów.
LOCATION;LANGUAGE=pl:Klub Gwarek
URL:https://www.klubgwarek.pl/koncert/R4VlPB/2025-02-22/MOYRA-Void-Of-
 Symphaty-Malware
DTSTAMP:20260423T200434Z
ORGANIZER;CN=Fundacja ACADEMICA;LANGUAGE=pl:
END:VEVENT
END:VCALENDAR
